  BEGIN:VCALENDAR
VERSION:2.0
PRODID:-//PlāSpace - ECPv6.15.11//NONSGML v1.0//EN
CALSCALE:GREGORIAN
METHOD:PUBLISH
X-ORIGINAL-URL:https://playspacesus.com
X-WR-CALDESC:Events for PlāSpace
REFRESH-INTERVAL;VALUE=DURATION:PT1H
X-Robots-Tag:noindex
X-PUBLISHED-TTL:PT1H
BEGIN:VTIMEZONE
TZID:America/New_York
BEGIN:DAYLIGHT
TZOFFSETFROM:-0500
TZOFFSETTO:-0400
TZNAME:EDT
DTSTART:20220313T070000
END:DAYLIGHT
BEGIN:STANDARD
TZOFFSETFROM:-0400
TZOFFSETTO:-0500
TZNAME:EST
DTSTART:20221106T060000
END:STANDARD
BEGIN:DAYLIGHT
TZOFFSETFROM:-0500
TZOFFSETTO:-0400
TZNAME:EDT
DTSTART:20230312T070000
END:DAYLIGHT
BEGIN:STANDARD
TZOFFSETFROM:-0400
TZOFFSETTO:-0500
TZNAME:EST
DTSTART:20231105T060000
END:STANDARD
BEGIN:DAYLIGHT
TZOFFSETFROM:-0500
TZOFFSETTO:-0400
TZNAME:EDT
DTSTART:20240310T070000
END:DAYLIGHT
BEGIN:STANDARD
TZOFFSETFROM:-0400
TZOFFSETTO:-0500
TZNAME:EST
DTSTART:20241103T060000
END:STANDARD
END:VTIMEZONE
BEGIN:VEVENT
DTSTART;TZID=America/New_York:20231223T133000
DTEND;TZID=America/New_York:20231223T153000
DTSTAMP:20260424T173453
CREATED:20231109T190909Z
LAST-MODIFIED:20231212T234128Z
UID:540-1703338200-1703345400@playspacesus.com
SUMMARY:Pink Christmas: Tea with Santa Andre
DESCRIPTION:A festive fairy tea party inspired by the Nutcracker\, with appearances by the Sugar Plum Fairy and her friends. This charming afternoon is filled with delicious treats\, cookie decorating\, story time\, and photo ops with ballerinas. Wear your favorite pink attire\, if you wish! \n\nUnwrap true joy at Pink Christmas:\nBe enchanted by a family-friendly extravaganza\nDelight in festive holiday-themed beverages\nDecorate cookies\, have story time\, and take photos with real ballerinas\nTickle your fashion fancy with some pink attire\, if you wish!\nDesignated seating (VIP only)\nEach child receives a special take-home gift (VIP only)\nCraft Rudolph & Frosty the Snowman pancake art (VIP only)\nTreat your taste buds with a delicious holiday meal by Hanna Brothers (VIP only)
URL:https://playspacesus.com/event/pink-christmas-tea-with-santa-andre/
CATEGORIES:Pink Christmas,Themed Experiences,Winter Wonderland
ATTACH;FMTTYPE=image/jpeg:https://playspacesus.com/wp-content/uploads/2023/11/TrilithWonderland23043-scaled.jpg
END:VEVENT
BEGIN:VEVENT
DTSTART;TZID=America/New_York:20231223T110000
DTEND;TZID=America/New_York:20231223T130000
DTSTAMP:20260424T173453
CREATED:20231109T190128Z
LAST-MODIFIED:20231213T001110Z
UID:524-1703329200-1703336400@playspacesus.com
SUMMARY:Pink Christmas: Brunch with Jingle Santa
DESCRIPTION:A simply delightful experience with winter fairies\, including a visit from Saint Nick himself. This enchanting morning features sweet treats\, cookie decorating\, story time\, photo ops with ballerinas\, and memories to last a lifetime. Feel free to come dressed in your favorite pink attire. \nUnwrap true joy at Pink Christmas: \n\nBe enchanted by a family-friendly extravaganza\nDelight in festive holiday-themed beverages\nDecorate cookies\, have story time\, and take photos with real ballerinas\nTickle your fashion fancy with some pink attire\, if you wish!\nDesignated seating (VIP only)\nEach child receives a special take-home gift (VIP only)\nCraft Rudolph & Frosty the Snowman pancake art (VIP only)\nTreat your taste buds with a delicious holiday meal by Hanna Brothers  (VIP only)
URL:https://playspacesus.com/event/pink-christmas-brunch-with-jingle-santa/
CATEGORIES:Pink Christmas,Themed Experiences
ATTACH;FMTTYPE=image/jpeg:https://playspacesus.com/wp-content/uploads/2023/11/TrilithWonderland23137-scaled.jpg
END:VEVENT
BEGIN:VEVENT
DTSTART;TZID=America/New_York:20231223T083000
DTEND;TZID=America/New_York:20231223T103000
DTSTAMP:20260424T173453
CREATED:20231109T185329Z
LAST-MODIFIED:20231213T000710Z
UID:515-1703320200-1703327400@playspacesus.com
SUMMARY:Pink Christmas: Breakfast with Jingle Santa
DESCRIPTION:A simply delightful experience with winter fairies\, including a visit from Saint Nick himself. This enchanting morning features sweet treats\, cookie decorating\, story time\, photo ops with ballerinas\, and memories to last a lifetime. Feel free to come dressed in your favorite pink attire. \nUnwrap true joy at Pink Christmas: \n\nBe enchanted by a family-friendly extravaganza\nDelight in festive holiday-themed beverages\nDecorate cookies\, have story time\, and take photos with real ballerinas\nTickle your fashion fancy with some pink attire\, if you wish!\nDesignated seating (VIP only)\nEach child receives a special take-home gift (VIP only)\nCraft Rudolph & Frosty the Snowman pancake art (VIP only)\nTreat your taste buds with a delicious holiday meal by Hanna Brothers  (VIP only)
URL:https://playspacesus.com/event/pink-christmas-breakfast-with-jingle-santa/
CATEGORIES:Pink Christmas,Themed Experiences
ATTACH;FMTTYPE=image/jpeg:https://playspacesus.com/wp-content/uploads/2023/11/1700623835-Brunch-with-Santa.jpg
END:VEVENT
END:VCALENDAR